BEGIN:VCALENDAR
VERSION:2.0
PRODID:-//Plone.org//NONSGML plone.app.event//EN
X-WR-TIMEZONE:Europe/Berlin
BEGIN:VEVENT
SUMMARY:Era o Hotel Cambridge (2016)
DTSTART;TZID=Europe/Berlin;VALUE=DATE-TIME:20170625T173000
DTEND;TZID=Europe/Berlin;VALUE=DATE-TIME:20170701T230000
DTSTAMP;VALUE=DATE-TIME:20260421T115454Z
UID:7370ed62118ac70e17cf9afaec3542eb@app-03.tuxwerk.de:8080
CATEGORIES:Soziale Bewegungen,Menschenrechte und Gesellschaft
CREATED;VALUE=DATE-TIME:20200429T182651Z
DESCRIPTION:Der Film erzählt eine ungewöhnliche Geschichte über eine Fl
 üchtlingsgruppe\, die mit Obdachlosen ein Squat im Zentrum von São Paulo
  teilt. Unter der täglichen Räumungsdrohung werden Dramen\, Freuden und 
 verschiedene Weltanschauungen von den Besetzern aufgezeigt.
LAST-MODIFIED;VALUE=DATE-TIME:20200429T182651Z
LOCATION:München
URL:https://www.kooperation-brasilien.org/de/veranstaltungen/termine/era-o
 -hotel-cambridge-2016
END:VEVENT
BEGIN:VTIMEZONE
TZID:Europe/Berlin
X-LIC-LOCATION:Europe/Berlin
BEGIN:DAYLIGHT
DTSTART;VALUE=DATE-TIME:20170326T030000
TZNAME:CEST
TZOFFSETFROM:+0100
TZOFFSETTO:+0200
END:DAYLIGHT
END:VTIMEZONE
END:VCALENDAR
