BEGIN:VCALENDAR
VERSION:2.0
PRODID:-//Plone.org//NONSGML plone.app.event//EN
X-WR-TIMEZONE:Europe/Berlin
BEGIN:VEVENT
SUMMARY:Ende der Demokratie in Brasilien? Gründe und Folgen des Rechtsruc
 ks
DTSTART;TZID=Europe/Berlin;VALUE=DATE-TIME:20190116T203000
DTEND;TZID=Europe/Berlin;VALUE=DATE-TIME:20190116T230000
DTSTAMP;VALUE=DATE-TIME:20260422T133525Z
UID:635aac79c9dc02ff185e55809d7bd1db@app-03.tuxwerk.de:8080
CREATED;VALUE=DATE-TIME:20200429T182649Z
DESCRIPTION:Podiumsdiskussion am Mittwoch\, 16.1. von 18.30-21.00\, FSU Je
 na\, HS 8
LAST-MODIFIED;VALUE=DATE-TIME:20200429T182649Z
LOCATION:Jena
URL:https://www.kooperation-brasilien.org/de/veranstaltungen/termine/ende-
 der-demokratie-in-brasilien-gruende-und-folgen-des-rechtsrucks
END:VEVENT
BEGIN:VTIMEZONE
TZID:Europe/Berlin
X-LIC-LOCATION:Europe/Berlin
BEGIN:STANDARD
DTSTART;VALUE=DATE-TIME:20181028T020000
TZNAME:CET
TZOFFSETFROM:+0200
TZOFFSETTO:+0100
END:STANDARD
END:VTIMEZONE
END:VCALENDAR
