BEGIN:VCALENDAR
VERSION:2.0
PRODID:-//Plone.org//NONSGML plone.app.event//EN
X-WR-TIMEZONE:Europe/Berlin
BEGIN:VEVENT
SUMMARY:Ein Jahr nach der Amazonien-Synode
DTSTART;TZID=Europe/Berlin;VALUE=DATE-TIME:20201021T193000
DTSTAMP;VALUE=DATE-TIME:20260420T201425Z
UID:2deda08b44af427188b63737f5129b63@app-03.tuxwerk.de:8080
CATEGORIES:Amazonien
CREATED;VALUE=DATE-TIME:20201002T093230Z
DESCRIPTION:Einladung zum Gesprächsabend mit dem Referenten Thomas Schmid
 t\nVeranstalter Hedwigsforum\nAnmeldung in den Pfarrbüros erforderlich!
LAST-MODIFIED;VALUE=DATE-TIME:20201216T114156Z
LOCATION:Gemeindezentrum St. Gallus\, Mainzer Landstraße 229\, 60326 Fran
 kfurt
URL:https://www.kooperation-brasilien.org/de/veranstaltungen/termine/ein-j
 ahr-nach-der-amazonien-synode
END:VEVENT
BEGIN:VTIMEZONE
TZID:Europe/Berlin
X-LIC-LOCATION:Europe/Berlin
BEGIN:DAYLIGHT
DTSTART;VALUE=DATE-TIME:20200329T030000
TZNAME:CEST
TZOFFSETFROM:+0100
TZOFFSETTO:+0200
END:DAYLIGHT
END:VTIMEZONE
END:VCALENDAR
