BEGIN:VCALENDAR
VERSION:2.0
PRODID:-//Plone.org//NONSGML plone.app.event//EN
X-WR-TIMEZONE:Europe/Berlin
BEGIN:VEVENT
SUMMARY:Effekt Marielle Franco: Was hat sie uns hinterlassen?
DTSTART;TZID=Europe/Berlin;VALUE=DATE-TIME:20190314T203000
DTEND;TZID=Europe/Berlin;VALUE=DATE-TIME:20190314T230000
DTSTAMP;VALUE=DATE-TIME:20260425T185357Z
UID:2a26c85225704c39d15360a12c50b6ae@app-03.tuxwerk.de:8080
CREATED;VALUE=DATE-TIME:20200429T182645Z
DESCRIPTION:Treffen und Vorstellung des Buches „Marielle Francos Vermäc
 htnis und die diasporischen afrobrasilianischen Frauen in Frankfurt und Ma
 inz"
LAST-MODIFIED;VALUE=DATE-TIME:20200429T182645Z
LOCATION:Frankfurt a.M.
URL:https://www.kooperation-brasilien.org/de/veranstaltungen/termine/effek
 t-marielle-franco-was-hat-sie-uns-hinterlassen
END:VEVENT
BEGIN:VTIMEZONE
TZID:Europe/Berlin
X-LIC-LOCATION:Europe/Berlin
BEGIN:STANDARD
DTSTART;VALUE=DATE-TIME:20181028T020000
TZNAME:CET
TZOFFSETFROM:+0200
TZOFFSETTO:+0100
END:STANDARD
END:VTIMEZONE
END:VCALENDAR
