BEGIN:VCALENDAR
VERSION:2.0
PRODID:-//Plone.org//NONSGML plone.app.event//EN
X-WR-TIMEZONE:Europe/Berlin
BEGIN:VEVENT
SUMMARY:Digitaler Dienstag der ASW: Länderreise Brasilien
DTSTART;TZID=Europe/Berlin;VALUE=DATE-TIME:20211214T190000
DTSTAMP;VALUE=DATE-TIME:20260421T191401Z
UID:43ab007854eb4cde83d1c5e82421c37e@app-03.tuxwerk.de:8080
CONTACT:https://www.aswnet.de/digitaler-dienstag-2021
CREATED;VALUE=DATE-TIME:20211202T134912Z
DESCRIPTION:Termin: 14.12. ab 19 Uhr\n\nIm Dezember lädt die ASW zu einer
  kostenlosen Veranstaltung zur Länderreise Brasilien ein\, in der es unte
 r anderem um das Projekt der Kokosnussfrauen am Tapajós im Amazonasbecken
  gehen wird.
LAST-MODIFIED;VALUE=DATE-TIME:20220201T105435Z
LOCATION:Online-Veranstaltung
URL:https://www.kooperation-brasilien.org/de/veranstaltungen/termine/digit
 aler-dienstag-der-asw-laenderreise-brasilien
END:VEVENT
BEGIN:VTIMEZONE
TZID:Europe/Berlin
X-LIC-LOCATION:Europe/Berlin
BEGIN:STANDARD
DTSTART;VALUE=DATE-TIME:20211031T020000
TZNAME:CET
TZOFFSETFROM:+0200
TZOFFSETTO:+0100
END:STANDARD
END:VTIMEZONE
END:VCALENDAR
