BEGIN:VCALENDAR
VERSION:2.0
PRODID:-//Plone.org//NONSGML plone.app.event//EN
X-WR-TIMEZONE:Europe/Berlin
BEGIN:VEVENT
SUMMARY:Die Wasserkrise in São Paulo
DTSTART;TZID=Europe/Berlin;VALUE=DATE-TIME:20150318T213000
DTEND;TZID=Europe/Berlin;VALUE=DATE-TIME:20150318T233000
DTSTAMP;VALUE=DATE-TIME:20260422T120550Z
UID:1289a20ab41278141f88b4ef675486e1@app-03.tuxwerk.de:8080
CATEGORIES:Wald und Klima,Stadt
CREATED;VALUE=DATE-TIME:20200429T182637Z
DESCRIPTION:\n\nSeit Anfang 2014 ist Wasser in der brasilianischen Megamet
 ropole Sao Paulo\, aber auch in anderen Regionen im Südosten des Landes M
 angelware. Die Stauseen\, die normalerweise die Wasserversorgung für die 
 Millionenstadt garantieren\, trocknen aus. In vielen Haushalten\, besonder
 s in peripheren Stadtbezirken\, kommt nichts mehr aus den Leitungen\, die 
 Politiker*innen diskutieren weiter über Rationierungsmaßnahmen. Wirklich
  Verantwortung übernehmen für Fehlplanungen in der Wasserversorgung\, Fo
 lgen von Privatisierungen\, schlechte Wartung\, aber auch Klimaveränderun
 gen durch die fortschreitende Abholzung des Amazonasregenwaldes will niema
 nd übernehmen.
LAST-MODIFIED;VALUE=DATE-TIME:20200429T182637Z
LOCATION:Köln
URL:https://www.kooperation-brasilien.org/de/veranstaltungen/termine/die-w
 asserkrise-in-sao-paulo
END:VEVENT
BEGIN:VTIMEZONE
TZID:Europe/Berlin
X-LIC-LOCATION:Europe/Berlin
BEGIN:STANDARD
DTSTART;VALUE=DATE-TIME:20141026T020000
TZNAME:CET
TZOFFSETFROM:+0200
TZOFFSETTO:+0100
END:STANDARD
END:VTIMEZONE
END:VCALENDAR
