BEGIN:VCALENDAR
VERSION:2.0
PRODID:-//Plone.org//NONSGML plone.app.event//EN
X-WR-TIMEZONE:Europe/Berlin
BEGIN:VEVENT
SUMMARY:Die Spur der weißen Elefanten - Der Streit um sportliche Großere
 ignisse
DTSTART;TZID=Europe/Berlin;VALUE=DATE-TIME:20160803T001500
DTEND;TZID=Europe/Berlin;VALUE=DATE-TIME:20160803T011000
DTSTAMP;VALUE=DATE-TIME:20260426T054947Z
UID:13e13af701f36a4567f52d967b9bc9c2@app-03.tuxwerk.de:8080
CREATED;VALUE=DATE-TIME:20200429T182634Z
DESCRIPTION:THEMA besucht in "Die Spur der weißen Elefanten" unter andere
 m jene gigantische Stadien\, die nach den immer gigantischer werdenden Spi
 elen leer in der Landschaft stehen und häufig enorme Kosten verursachen. 
 Die Dokumentation nimmt das Buch "Circus Maximus" des Sportökonomen Andre
 w Zimbalist als Ausgangspunkt\, der Teil der "No Boston Olympics"-Bewegung
  war. Kurz vor Beginn der diesjährigen Olympischen Sommerspiele begibt si
 ch die Dokumentation in Athen\, Paris und Rio de Janeiro auf eine hintergr
 ündige Recherche.
LAST-MODIFIED;VALUE=DATE-TIME:20200429T182634Z
LOCATION:ARTE
URL:https://www.kooperation-brasilien.org/de/veranstaltungen/termine/die-s
 pur-der-weissen-elefanten-der-streit-um-sportliche-grossereignisse
END:VEVENT
BEGIN:VTIMEZONE
TZID:Europe/Berlin
X-LIC-LOCATION:Europe/Berlin
BEGIN:DAYLIGHT
DTSTART;VALUE=DATE-TIME:20160327T030000
TZNAME:CEST
TZOFFSETFROM:+0100
TZOFFSETTO:+0200
END:DAYLIGHT
END:VTIMEZONE
END:VCALENDAR
