BEGIN:VCALENDAR
VERSION:2.0
PRODID:-//Plone.org//NONSGML plone.app.event//EN
X-WR-TIMEZONE:Europe/Berlin
BEGIN:VEVENT
SUMMARY:Die Situation der indigenen Völker in Brasilien
DTSTART;TZID=Europe/Berlin;VALUE=DATE-TIME:20170511T000000
DTEND;TZID=Europe/Berlin;VALUE=DATE-TIME:20170511T023000
DTSTAMP;VALUE=DATE-TIME:20260423T005306Z
UID:68832da6abd53bd3e4af231513442b4f@app-03.tuxwerk.de:8080
CATEGORIES:Soziale Bewegungen,Traditionelle Völker und Gemeinschaften,Lan
 dkonflikte und Umwelt,Menschenrechte und Gesellschaft
CREATED;VALUE=DATE-TIME:20200429T182632Z
DESCRIPTION:Vortrag von Guarani-Kaiowá Häuptling Ládio Verón. Kollekte
  Jugendsektion
LAST-MODIFIED;VALUE=DATE-TIME:20200429T182632Z
LOCATION:Dornach
URL:https://www.kooperation-brasilien.org/de/veranstaltungen/termine/die-s
 ituation-der-indigenen-voelker-in-brasilien
END:VEVENT
BEGIN:VTIMEZONE
TZID:Europe/Berlin
X-LIC-LOCATION:Europe/Berlin
BEGIN:DAYLIGHT
DTSTART;VALUE=DATE-TIME:20170326T030000
TZNAME:CEST
TZOFFSETFROM:+0100
TZOFFSETTO:+0200
END:DAYLIGHT
END:VTIMEZONE
END:VCALENDAR
