BEGIN:VCALENDAR
VERSION:2.0
PRODID:-//Plone.org//NONSGML plone.app.event//EN
X-WR-TIMEZONE:Europe/Berlin
BEGIN:VEVENT
SUMMARY:Die Geopolitik des grünen Kolonialismus
DTSTART;TZID=Europe/Berlin;VALUE=DATE-TIME:20240717T180000
DTSTAMP;VALUE=DATE-TIME:20260425T012741Z
UID:39d4531d7210441db9d3b8d7d75f0fd7@app-03.tuxwerk.de:8080
CREATED;VALUE=DATE-TIME:20240715T094601Z
DESCRIPTION:Sozialökologische Transformation und globale Gerechtigkeit
LAST-MODIFIED;VALUE=DATE-TIME:20240715T094606Z
LOCATION:Mehringhof - Versammlungsraum Gneisenaustraße 2a Aufgang 3\, 1. 
 Etage links 10961 Berlin
URL:https://www.kooperation-brasilien.org/de/veranstaltungen/termine/die-g
 eopolitik-des-gruenen-kolonialismus
END:VEVENT
BEGIN:VTIMEZONE
TZID:Europe/Berlin
X-LIC-LOCATION:Europe/Berlin
BEGIN:DAYLIGHT
DTSTART;VALUE=DATE-TIME:20240331T030000
TZNAME:CEST
TZOFFSETFROM:+0100
TZOFFSETTO:+0200
END:DAYLIGHT
END:VTIMEZONE
END:VCALENDAR
