BEGIN:VCALENDAR
VERSION:2.0
PRODID:-//Plone.org//NONSGML plone.app.event//EN
X-WR-TIMEZONE:Europe/Berlin
BEGIN:VEVENT
SUMMARY:Die Evangelikalen in Brasilien zwischen Mission und Politik
DTSTART;TZID=Europe/Berlin;VALUE=DATE-TIME:20191202T200000
DTEND;TZID=Europe/Berlin;VALUE=DATE-TIME:20191202T222000
DTSTAMP;VALUE=DATE-TIME:20260423T151209Z
UID:b1f7a14a6b473b65fbdc9061927051eb@app-03.tuxwerk.de:8080
CREATED;VALUE=DATE-TIME:20200429T182621Z
DESCRIPTION:Diskussion mit Dr. Nikolaus Werz (Universität Rostock)\, Dr. 
 Claudia Zilla (Stiftung Wissenschaft und Politik\, Berlin) und dem brasili
 anischen Soziologen Dr. Luiz Ramalho.
LAST-MODIFIED;VALUE=DATE-TIME:20200429T182621Z
LOCATION:Berlin
URL:https://www.kooperation-brasilien.org/de/veranstaltungen/termine/die-e
 vangelikalen-in-brasilien-zwischen-mission-und-politik
END:VEVENT
BEGIN:VTIMEZONE
TZID:Europe/Berlin
X-LIC-LOCATION:Europe/Berlin
BEGIN:STANDARD
DTSTART;VALUE=DATE-TIME:20191027T020000
TZNAME:CET
TZOFFSETFROM:+0200
TZOFFSETTO:+0100
END:STANDARD
END:VTIMEZONE
END:VCALENDAR
