BEGIN:VCALENDAR
VERSION:2.0
PRODID:-//Plone.org//NONSGML plone.app.event//EN
X-WR-TIMEZONE:Europe/Berlin
BEGIN:VEVENT
SUMMARY:Die europäische Rohstoffstrategie und ihre Auswirkungen auf Latei
 namerika
DTSTART;TZID=Europe/Berlin;VALUE=DATE-TIME:20141001T210000
DTEND;TZID=Europe/Berlin;VALUE=DATE-TIME:20141001T233000
DTSTAMP;VALUE=DATE-TIME:20260423T131657Z
UID:603d7f07eea5361cf4ba9d5fbef341da@app-03.tuxwerk.de:8080
CREATED;VALUE=DATE-TIME:20200429T182619Z
DESCRIPTION:Die steigende Nachfrage nach mineralischen Rohstoffen hat nich
 t nur zu höheren Preisen geführt\, sondern auch die Angebots- und Nachfr
 agestruktur auf dem Weltmarkt\n\n\n\nverändert. Die Europäische Kommissi
 on weist seit 2006 auf die negativen Folgen dieser Entwicklungen für die 
 Industrie Europas hin. Vor diesem Hintergrund haben sowohl die\n\n\n\nEuro
 päische Kommission als auch die Bundesregierung Rohstoffstrategien ausgea
 rbeitet.
LAST-MODIFIED;VALUE=DATE-TIME:20200429T182619Z
LOCATION:Projekthaus desiguALdades.net  Boltzmannstr. 1\, 14195 Berlin
URL:https://www.kooperation-brasilien.org/de/veranstaltungen/termine/die-e
 uropaeische-rohstoffstrategie-und-ihre-auswirkungen-auf-lateinamerika
END:VEVENT
BEGIN:VTIMEZONE
TZID:Europe/Berlin
X-LIC-LOCATION:Europe/Berlin
BEGIN:DAYLIGHT
DTSTART;VALUE=DATE-TIME:20140330T030000
TZNAME:CEST
TZOFFSETFROM:+0100
TZOFFSETTO:+0200
END:DAYLIGHT
END:VTIMEZONE
END:VCALENDAR
