BEGIN:VCALENDAR
VERSION:2.0
PRODID:-//Plone.org//NONSGML plone.app.event//EN
X-WR-TIMEZONE:Europe/Berlin
BEGIN:VEVENT
SUMMARY:DIE BRASILIANISCHEN BEFREIER ITALIENS
DTSTART;TZID=Europe/Berlin;VALUE=DATE-TIME:20250408T193000
DTSTAMP;VALUE=DATE-TIME:20260420T213337Z
UID:cbb8090e2aa247a1951d0e640bc4aa76@app-03.tuxwerk.de:8080
CATEGORIES:_feb23
CONTACT:https://www.iz3w.org/aktuell/veranstaltungsreihe-dritte-welt-zweit
 er-weltkrieg
CREATED;VALUE=DATE-TIME:20250217T095458Z
DESCRIPTION:Vortrag von Luis de Olivera (Italien/Brasilien)
LAST-MODIFIED;VALUE=DATE-TIME:20250429T075438Z
LOCATION:Theater Freiburg\, Winterer-Foyer\, Bertoldstr. 46
URL:https://www.kooperation-brasilien.org/de/veranstaltungen/termine/die-b
 rasilianischen-befreier-italiens
END:VEVENT
BEGIN:VTIMEZONE
TZID:Europe/Berlin
X-LIC-LOCATION:Europe/Berlin
BEGIN:DAYLIGHT
DTSTART;VALUE=DATE-TIME:20250330T030000
TZNAME:CEST
TZOFFSETFROM:+0100
TZOFFSETTO:+0200
END:DAYLIGHT
END:VTIMEZONE
END:VCALENDAR
