BEGIN:VCALENDAR
VERSION:2.0
PRODID:-//Plone.org//NONSGML plone.app.event//EN
X-WR-TIMEZONE:Europe/Berlin
BEGIN:VEVENT
SUMMARY:Die „progressiven Regierungen“ sind in der Krise oder am Ende.
  Und jetzt?
DTSTART;TZID=Europe/Berlin;VALUE=DATE-TIME:20170126T200000
DTEND;TZID=Europe/Berlin;VALUE=DATE-TIME:20170126T230000
DTSTAMP;VALUE=DATE-TIME:20260422T025447Z
UID:2baac350c7dee7d0bad1743ceab56102@app-03.tuxwerk.de:8080
CREATED;VALUE=DATE-TIME:20200429T182617Z
DESCRIPTION:In Brasilien wurde Dilma Rousseff abgesetzt\, der Neoliberalis
 mus ist zurück. Auch in Argentinien haben die Neoliberalen wieder überno
 mmen. In Venezuela\, Ecuador und Bolivien steigt der Druck auf die linken 
 Regierungen. Das Modell der „progressiven Regierungen“ in Lateinamerik
 ascheint am Ende zu sein. Fallende Rohstoffpreise haben die Armutsbekämpf
 ung durch Umverteilung aus Exportüberschüssen schon länger gebremst\, e
 chte politische Reformen hat es zumindest in Brasilien nicht gegeben. Gab 
 es Alternativen? Und was sind die Perspektiven für Lateinamerika heute?
LAST-MODIFIED;VALUE=DATE-TIME:20200429T182617Z
LOCATION:Frankfurt
URL:https://www.kooperation-brasilien.org/de/veranstaltungen/termine/die-2
 01eprogressiven-regierungen201c-sind-in-der-krise-oder-am-ende.-und-jetzt
END:VEVENT
BEGIN:VTIMEZONE
TZID:Europe/Berlin
X-LIC-LOCATION:Europe/Berlin
BEGIN:STANDARD
DTSTART;VALUE=DATE-TIME:20161030T020000
TZNAME:CET
TZOFFSETFROM:+0200
TZOFFSETTO:+0100
END:STANDARD
END:VTIMEZONE
END:VCALENDAR
