BEGIN:VCALENDAR
VERSION:2.0
PRODID:-//Plone.org//NONSGML plone.app.event//EN
X-WR-TIMEZONE:Europe/Berlin
BEGIN:VEVENT
SUMMARY:Dialogveranstaltung "Wirtschaftliche Entwicklung\, Innovation und 
 Nachhaltigkeit im Rahmen der Olympischen Spiele 2016 in Rio de Janeiro"
DTSTART;TZID=Europe/Berlin;VALUE=DATE-TIME:20160613T133000
DTEND;TZID=Europe/Berlin;VALUE=DATE-TIME:20160613T170000
DTSTAMP;VALUE=DATE-TIME:20260425T154420Z
UID:1e0f48a78db8a19fcaec76f0c674623a@app-03.tuxwerk.de:8080
CREATED;VALUE=DATE-TIME:20200429T182616Z
DESCRIPTION:Die Dialogveranstaltung zum Thema „Wirtschaft und Nachhaltig
 keit“ im Rahmen der Olympischen Spiele 2016 in Rio de Janeiro und im Rah
 men des Nosso Jogo Themenbereichs „Wissen und Dialog„ bietet die einzi
 gartige Möglichkeit\, die Bedeutung sowie die Handlungsmöglichkeiten ein
 er sozial und ökologisch nachhaltigen Gestaltung infrastruktureller Groß
 projekte bzw. wirtschaftlicher Opportunities für Megaevents im Kreise von
  ExpertInnen zu diskutieren.
LAST-MODIFIED;VALUE=DATE-TIME:20200429T182616Z
LOCATION:Wien
URL:https://www.kooperation-brasilien.org/de/veranstaltungen/termine/dialo
 gveranstaltung-wirtschaftliche-entwicklung-innovation-und-nachhaltigkeit-i
 m-rahmen-der-olympischen-spiele-2016-in-rio-de-janeiro
END:VEVENT
BEGIN:VTIMEZONE
TZID:Europe/Berlin
X-LIC-LOCATION:Europe/Berlin
BEGIN:DAYLIGHT
DTSTART;VALUE=DATE-TIME:20160327T030000
TZNAME:CEST
TZOFFSETFROM:+0100
TZOFFSETTO:+0200
END:DAYLIGHT
END:VTIMEZONE
END:VCALENDAR
