BEGIN:VCALENDAR
VERSION:2.0
PRODID:-//Plone.org//NONSGML plone.app.event//EN
X-WR-TIMEZONE:Europe/Berlin
BEGIN:VEVENT
SUMMARY:Desova | Filmabend und -gespräch
DTSTART;TZID=Europe/Berlin;VALUE=DATE-TIME:20250311T190000
DTEND;TZID=Europe/Berlin;VALUE=DATE-TIME:20250311T210000
DTSTAMP;VALUE=DATE-TIME:20260425T184410Z
UID:a2f7fa2c57a541a197dba3b2f0880465@app-03.tuxwerk.de:8080
CREATED;VALUE=DATE-TIME:20250304T152210Z
DESCRIPTION:Kurzfilm über das gewaltsame Verschwindenlassen von Menschen 
 in der Baixada-Fluminense-Region in Rio de Janeiro\, Brasilien. Anschließ
 end Gespräch mit brasilianischen Gästen.
LAST-MODIFIED;VALUE=DATE-TIME:20250304T152304Z
LOCATION:medico international e.V.\, Lindleystr. 15\, 60314 Frankfurt
URL:https://www.kooperation-brasilien.org/de/veranstaltungen/termine/desov
 a-filmabend-und-gespraech-1
END:VEVENT
BEGIN:VTIMEZONE
TZID:Europe/Berlin
X-LIC-LOCATION:Europe/Berlin
BEGIN:STANDARD
DTSTART;VALUE=DATE-TIME:20241027T020000
TZNAME:CET
TZOFFSETFROM:+0200
TZOFFSETTO:+0100
END:STANDARD
END:VTIMEZONE
END:VCALENDAR
