BEGIN:VCALENDAR
VERSION:2.0
PRODID:-//Plone.org//NONSGML plone.app.event//EN
X-WR-TIMEZONE:Europe/Berlin
BEGIN:VEVENT
SUMMARY:Der Kampf für das Recht auf Stadt: Politisierung\, Kreativität u
 nd Widerstand in Recife
DTSTART;TZID=Europe/Berlin;VALUE=DATE-TIME:20150211T210000
DTEND;TZID=Europe/Berlin;VALUE=DATE-TIME:20150211T230000
DTSTAMP;VALUE=DATE-TIME:20260421T103757Z
UID:71668bfc14b94f03553c7ccf020e187c@app-03.tuxwerk.de:8080
CATEGORIES:Soziale Bewegungen,Stadt
CREATED;VALUE=DATE-TIME:20200429T182609Z
DESCRIPTION:Die Erlebnisse der Bewegung #OcupeEstelita
LAST-MODIFIED;VALUE=DATE-TIME:20200429T182609Z
LOCATION:Freiburg
URL:https://www.kooperation-brasilien.org/de/veranstaltungen/termine/der-k
 ampf-fuer-das-recht-auf-stadt-politisierung-kreativitaet-und-widerstand-in
 -recife
END:VEVENT
BEGIN:VTIMEZONE
TZID:Europe/Berlin
X-LIC-LOCATION:Europe/Berlin
BEGIN:STANDARD
DTSTART;VALUE=DATE-TIME:20141026T020000
TZNAME:CET
TZOFFSETFROM:+0200
TZOFFSETTO:+0100
END:STANDARD
END:VTIMEZONE
END:VCALENDAR
