BEGIN:VCALENDAR
VERSION:2.0
PRODID:-//Plone.org//NONSGML plone.app.event//EN
X-WR-TIMEZONE:Europe/Berlin
BEGIN:VEVENT
SUMMARY:Demokratie unter Druck
DTSTART;TZID=Europe/Berlin;VALUE=DATE-TIME:20201215T180000
DTEND;TZID=Europe/Berlin;VALUE=DATE-TIME:20201215T200000
DTSTAMP;VALUE=DATE-TIME:20260419T235055Z
UID:37fd96a78dca4e44949875bf391564ce@app-03.tuxwerk.de:8080
CONTACT:https://calendar.boell.de/de/event/Demokratie-unter-Druck
CREATED;VALUE=DATE-TIME:20201130T113918Z
DESCRIPTION:Berliner Brasiliendialoge – Brasilien im multiplen Krisenmod
 us
LAST-MODIFIED;VALUE=DATE-TIME:20201130T122055Z
URL:https://www.kooperation-brasilien.org/de/veranstaltungen/termine/demok
 ratie-unter-druck
END:VEVENT
BEGIN:VTIMEZONE
TZID:Europe/Berlin
X-LIC-LOCATION:Europe/Berlin
BEGIN:STANDARD
DTSTART;VALUE=DATE-TIME:20201025T020000
TZNAME:CET
TZOFFSETFROM:+0200
TZOFFSETTO:+0100
END:STANDARD
END:VTIMEZONE
END:VCALENDAR
