BEGIN:VCALENDAR
VERSION:2.0
PRODID:-//Plone.org//NONSGML plone.app.event//EN
X-WR-TIMEZONE:Europe/Berlin
BEGIN:VEVENT
SUMMARY:Das Meer des Pilgers Antonio
DTSTART;TZID=Europe/Berlin;VALUE=DATE-TIME:20170421T230000
DTEND;TZID=Europe/Berlin;VALUE=DATE-TIME:20170422T020000
DTSTAMP;VALUE=DATE-TIME:20260423T195334Z
UID:ffaf2f66a727ffc51b58e9ab7a1f2134@app-03.tuxwerk.de:8080
CREATED;VALUE=DATE-TIME:20200429T182601Z
DESCRIPTION:St. Pius\, Philipp-Fleck-Str. 13\,\n\n60486 Frankfurt (Kuhwald
 siedlung)
LAST-MODIFIED;VALUE=DATE-TIME:20200429T182601Z
LOCATION:Frankfurt
URL:https://www.kooperation-brasilien.org/de/veranstaltungen/termine/das-m
 eer-des-pilgers-antonio
END:VEVENT
BEGIN:VTIMEZONE
TZID:Europe/Berlin
X-LIC-LOCATION:Europe/Berlin
BEGIN:DAYLIGHT
DTSTART;VALUE=DATE-TIME:20170326T030000
TZNAME:CEST
TZOFFSETFROM:+0100
TZOFFSETTO:+0200
END:DAYLIGHT
END:VTIMEZONE
END:VCALENDAR
