BEGIN:VCALENDAR
VERSION:2.0
PRODID:-//Plone.org//NONSGML plone.app.event//EN
X-WR-TIMEZONE:Europe/Berlin
BEGIN:VEVENT
SUMMARY:Film "AGROkalypse - der Tag\, an dem das Gensoja kam"
DTSTART;TZID=Europe/Berlin;VALUE=DATE-TIME:20160311T220000
DTEND;TZID=Europe/Berlin;VALUE=DATE-TIME:20160311T233000
DTSTAMP;VALUE=DATE-TIME:20260425T203303Z
UID:9d72c469119fa547c0c50776bc87c708@app-03.tuxwerk.de:8080
CATEGORIES:Landkonflikte und Umwelt
CREATED;VALUE=DATE-TIME:20200429T182552Z
DESCRIPTION:Öffentliche Vorführung im Rahmen des 5. Umweltkongresses der
  European Environment Foundation.
LAST-MODIFIED;VALUE=DATE-TIME:20200429T182552Z
LOCATION:Freiburg
URL:https://www.kooperation-brasilien.org/de/veranstaltungen/termine/copy_
 of_film-agrokalypse-der-tag-an-dem-das-gensoja-kam
END:VEVENT
BEGIN:VTIMEZONE
TZID:Europe/Berlin
X-LIC-LOCATION:Europe/Berlin
BEGIN:STANDARD
DTSTART;VALUE=DATE-TIME:20151025T020000
TZNAME:CET
TZOFFSETFROM:+0200
TZOFFSETTO:+0100
END:STANDARD
END:VTIMEZONE
END:VCALENDAR
