BEGIN:VCALENDAR
VERSION:2.0
PRODID:-//Plone.org//NONSGML plone.app.event//EN
X-WR-TIMEZONE:Europe/Berlin
BEGIN:VEVENT
SUMMARY:Chão - Landlos
DTSTART;TZID=Europe/Berlin;VALUE=DATE-TIME:20190415T003000
DTEND;TZID=Europe/Berlin;VALUE=DATE-TIME:20190415T020000
DTSTAMP;VALUE=DATE-TIME:20260423T150608Z
UID:c2767d335b490bb5f6a3d55807823cf5@app-03.tuxwerk.de:8080
CREATED;VALUE=DATE-TIME:20200429T182538Z
LAST-MODIFIED;VALUE=DATE-TIME:20200429T182538Z
LOCATION:Tübingen
URL:https://www.kooperation-brasilien.org/de/veranstaltungen/termine/chao-
 landlos-2
END:VEVENT
BEGIN:VTIMEZONE
TZID:Europe/Berlin
X-LIC-LOCATION:Europe/Berlin
BEGIN:DAYLIGHT
DTSTART;VALUE=DATE-TIME:20190331T030000
TZNAME:CEST
TZOFFSETFROM:+0100
TZOFFSETTO:+0200
END:DAYLIGHT
END:VTIMEZONE
END:VCALENDAR
