BEGIN:VCALENDAR
VERSION:2.0
PRODID:-//Plone.org//NONSGML plone.app.event//EN
X-WR-TIMEZONE:Europe/Berlin
BEGIN:VEVENT
SUMMARY:Brasiliens soziale Bewegungen unter der Regierung Bolsonaro
DTSTART;TZID=Europe/Berlin;VALUE=DATE-TIME:20190425T230000
DTEND;TZID=Europe/Berlin;VALUE=DATE-TIME:20190426T003000
DTSTAMP;VALUE=DATE-TIME:20260421T115809Z
UID:85bca08901c2c731a688964d442061b5@app-03.tuxwerk.de:8080
CREATED;VALUE=DATE-TIME:20200429T182528Z
DESCRIPTION:Ein Klima der Gewalt und des Hasses prägt das neue politische
  Szenario in Brasilien. Zusammen mit Miguel Enrique Stedile\, Mitglied der
  nationalen Leitung der Landlosenbewegung MST\, diskutieren wir über Mög
 lichkeiten der Solidarität mit den sozialen Bewegungen in Brasilien.\n\n\
 n\n
LAST-MODIFIED;VALUE=DATE-TIME:20200429T182528Z
LOCATION:Bern
URL:https://www.kooperation-brasilien.org/de/veranstaltungen/termine/brasi
 liens-soziale-bewegungen-unter-der-regierung-bolsonaro
END:VEVENT
BEGIN:VTIMEZONE
TZID:Europe/Berlin
X-LIC-LOCATION:Europe/Berlin
BEGIN:DAYLIGHT
DTSTART;VALUE=DATE-TIME:20190331T030000
TZNAME:CEST
TZOFFSETFROM:+0100
TZOFFSETTO:+0200
END:DAYLIGHT
END:VTIMEZONE
END:VCALENDAR
