BEGIN:VCALENDAR
VERSION:2.0
PRODID:-//Plone.org//NONSGML plone.app.event//EN
X-WR-TIMEZONE:Europe/Berlin
BEGIN:VEVENT
SUMMARY:Brasilien zwischen der Fußball-WM und Olympia in Rio
DTSTART;TZID=Europe/Berlin;VALUE=DATE-TIME:20160429T230000
DTEND;TZID=Europe/Berlin;VALUE=DATE-TIME:20160430T010000
DTSTAMP;VALUE=DATE-TIME:20260421T162838Z
UID:b1a4a24f153935b6d8152b193231f0fe@app-03.tuxwerk.de:8080
CATEGORIES:Soziale Bewegungen,WM und Olympia
CREATED;VALUE=DATE-TIME:20200429T182520Z
DESCRIPTION:„Zur aktuellen politischen und ökonomischen Lage des Landes
 “
LAST-MODIFIED;VALUE=DATE-TIME:20200429T182520Z
LOCATION:Stuttgart
URL:https://www.kooperation-brasilien.org/de/veranstaltungen/termine/brasi
 lien-zwischen-der-fussball-wm-und-olympia-in-rio
END:VEVENT
BEGIN:VTIMEZONE
TZID:Europe/Berlin
X-LIC-LOCATION:Europe/Berlin
BEGIN:DAYLIGHT
DTSTART;VALUE=DATE-TIME:20160327T030000
TZNAME:CEST
TZOFFSETFROM:+0100
TZOFFSETTO:+0200
END:DAYLIGHT
END:VTIMEZONE
END:VCALENDAR
