BEGIN:VCALENDAR
VERSION:2.0
PRODID:-//Plone.org//NONSGML plone.app.event//EN
X-WR-TIMEZONE:Europe/Berlin
BEGIN:VEVENT
SUMMARY:Brasilien unter Bolsonaro
DTSTART;TZID=Europe/Berlin;VALUE=DATE-TIME:20190215T213000
DTEND;TZID=Europe/Berlin;VALUE=DATE-TIME:20190215T233000
DTSTAMP;VALUE=DATE-TIME:20260420T193121Z
UID:77de33887679ea75cc0696290c99c528@app-03.tuxwerk.de:8080
CREATED;VALUE=DATE-TIME:20200429T182513Z
DESCRIPTION:Auf dem Weg in die Diktatur?
LAST-MODIFIED;VALUE=DATE-TIME:20200429T182513Z
LOCATION:Berlin
URL:https://www.kooperation-brasilien.org/de/veranstaltungen/termine/brasi
 lien-unter-bolsonaro
END:VEVENT
BEGIN:VTIMEZONE
TZID:Europe/Berlin
X-LIC-LOCATION:Europe/Berlin
BEGIN:STANDARD
DTSTART;VALUE=DATE-TIME:20181028T020000
TZNAME:CET
TZOFFSETFROM:+0200
TZOFFSETTO:+0100
END:STANDARD
END:VTIMEZONE
END:VCALENDAR
