BEGIN:VCALENDAR
VERSION:2.0
PRODID:-//Plone.org//NONSGML plone.app.event//EN
X-WR-TIMEZONE:Europe/Berlin
BEGIN:VEVENT
SUMMARY:Brasilien und das Handelsabkommen EU-Mercosur
DTSTART;TZID=Europe/Berlin;VALUE=DATE-TIME:20211008T180000
DTEND;TZID=Europe/Berlin;VALUE=DATE-TIME:20211008T200000
DTSTAMP;VALUE=DATE-TIME:20260419T184839Z
UID:7b4913c5d01f4f0190ccc2c2d48ddcaa@app-03.tuxwerk.de:8080
CONTACT:https://www.fdcl.org/event/brasilien-und-das-handelsabkommen-eu-me
 rcosur/
CREATED;VALUE=DATE-TIME:20211006T082628Z
DESCRIPTION:Freifahrtschein für das Agrobusiness - Gefahr für Klima und 
 Biodiversität wie Indigene und das Recht auf Land\n\nOnline-Veranstaltung
  via Zoom (Simultanverdolmetschung deutsch-portugiesisch)
LAST-MODIFIED;VALUE=DATE-TIME:20211006T082745Z
URL:https://www.kooperation-brasilien.org/de/veranstaltungen/termine/brasi
 lien-und-das-handelsabkommen-eu-mercosur
END:VEVENT
BEGIN:VTIMEZONE
TZID:Europe/Berlin
X-LIC-LOCATION:Europe/Berlin
BEGIN:DAYLIGHT
DTSTART;VALUE=DATE-TIME:20210328T030000
TZNAME:CEST
TZOFFSETFROM:+0100
TZOFFSETTO:+0200
END:DAYLIGHT
END:VTIMEZONE
END:VCALENDAR
