BEGIN:VCALENDAR
VERSION:2.0
PRODID:-//Plone.org//NONSGML plone.app.event//EN
X-WR-TIMEZONE:Europe/Berlin
BEGIN:VEVENT
SUMMARY:"Brasilien : Präsidentschaftswahlen 2018 in Krisenzeiten"
DTSTART;TZID=Europe/Berlin;VALUE=DATE-TIME:20180221T220000
DTEND;TZID=Europe/Berlin;VALUE=DATE-TIME:20180221T233000
DTSTAMP;VALUE=DATE-TIME:20260420T222203Z
UID:2667605d51b0011360aee6a0fd92e998@app-03.tuxwerk.de:8080
CREATED;VALUE=DATE-TIME:20200429T182507Z
DESCRIPTION:Vortrag von Dr. Emilio Astuto mit anschließender Diskussion
LAST-MODIFIED;VALUE=DATE-TIME:20200429T182507Z
LOCATION:München
URL:https://www.kooperation-brasilien.org/de/veranstaltungen/termine/brasi
 lien-praesidentschaftswahlen-2018-in-krisenzeiten
END:VEVENT
BEGIN:VTIMEZONE
TZID:Europe/Berlin
X-LIC-LOCATION:Europe/Berlin
BEGIN:STANDARD
DTSTART;VALUE=DATE-TIME:20171029T020000
TZNAME:CET
TZOFFSETFROM:+0200
TZOFFSETTO:+0100
END:STANDARD
END:VTIMEZONE
END:VCALENDAR
