BEGIN:VCALENDAR
VERSION:2.0
PRODID:-//Plone.org//NONSGML plone.app.event//EN
X-WR-TIMEZONE:Europe/Berlin
BEGIN:VEVENT
SUMMARY:Brasilien: Landkonflikte und Großprojekte in Amazonien - Egidio A
 lves Sampaio aus der Landpastoral berichtet
DTSTART;TZID=Europe/Berlin;VALUE=DATE-TIME:20160302T213000
DTEND;TZID=Europe/Berlin;VALUE=DATE-TIME:20160302T233000
DTSTAMP;VALUE=DATE-TIME:20260422T162549Z
UID:5a08574e365ebfa4acf53137cf6cbb9f@app-03.tuxwerk.de:8080
CREATED;VALUE=DATE-TIME:20200429T182457Z
DESCRIPTION:Eine Veranstaltung im Rahmen der MISEREOR-Fastenaktion 2016
LAST-MODIFIED;VALUE=DATE-TIME:20200429T182457Z
LOCATION:Freiburg
URL:https://www.kooperation-brasilien.org/de/veranstaltungen/termine/brasi
 lien-landkonflikte-und-grossprojekte-in-amazonien
END:VEVENT
BEGIN:VTIMEZONE
TZID:Europe/Berlin
X-LIC-LOCATION:Europe/Berlin
BEGIN:STANDARD
DTSTART;VALUE=DATE-TIME:20151025T020000
TZNAME:CET
TZOFFSETFROM:+0200
TZOFFSETTO:+0100
END:STANDARD
END:VTIMEZONE
END:VCALENDAR
