BEGIN:VCALENDAR
VERSION:2.0
PRODID:-//Plone.org//NONSGML plone.app.event//EN
X-WR-TIMEZONE:Europe/Berlin
BEGIN:VEVENT
SUMMARY:Brasilien: Kampf für indigene Rechte und den Erhalt des amazonisc
 hen Regenwaldes Perspektiven und Sichtweisen sozialer Bewegungen vor den W
 ahlen
DTSTART;TZID=Europe/Berlin;VALUE=DATE-TIME:20220906T180000
DTEND;TZID=Europe/Berlin;VALUE=DATE-TIME:20220906T200000
DTSTAMP;VALUE=DATE-TIME:20260421T142645Z
UID:0872b282f8e2468fb67812b98b2b5546@app-03.tuxwerk.de:8080
CREATED;VALUE=DATE-TIME:20220817T111412Z
DESCRIPTION:Gespräch mit:\n\nAlessandra Korap Munduruku (Aktivistin\, Ass
 ociação Indígena do Médio Tapajós – Parirí\, Brasilien)\nRaione Li
 ma (Aktivistin\, Comissão Pastoral da Terra\, Brasilien)\nMaria de Jesus 
 dos Santos Gomes (Aktivistin\, Movimento dos Sem Terra\, Brasilien)\n\nMod
 eration: Andrea Dip (Journalistin\, Agência Pública de Jornalismo Invest
 igativo\, Brasilien)
LAST-MODIFIED;VALUE=DATE-TIME:20220921T104849Z
LOCATION:Brot für die Welt (Raum 0.K.06 Christian Berg)\, Caroline-Michae
 lis-Str.1\, 10115 Berlin
URL:https://www.kooperation-brasilien.org/de/veranstaltungen/termine/brasi
 lien-kampf-fuer-indigene-rechte-und-den-erhalt-des-amazonischen-regenwalde
 s-perspektiven-und-sichtweisen-sozialer-bewegungen-vor-den-wahlen
END:VEVENT
BEGIN:VTIMEZONE
TZID:Europe/Berlin
X-LIC-LOCATION:Europe/Berlin
BEGIN:DAYLIGHT
DTSTART;VALUE=DATE-TIME:20220327T030000
TZNAME:CEST
TZOFFSETFROM:+0100
TZOFFSETTO:+0200
END:DAYLIGHT
END:VTIMEZONE
END:VCALENDAR
