BEGIN:VCALENDAR
VERSION:2.0
PRODID:-//Plone.org//NONSGML plone.app.event//EN
X-WR-TIMEZONE:Europe/Berlin
BEGIN:VEVENT
SUMMARY:Brasilien in der Krise – Trotz oder wegen Olympia?
DTSTART;TZID=Europe/Berlin;VALUE=DATE-TIME:20160705T233000
DTEND;TZID=Europe/Berlin;VALUE=DATE-TIME:20160706T013000
DTSTAMP;VALUE=DATE-TIME:20260420T074736Z
UID:eacbb0b63c384f9e404b3e3dff8b3b75@app-03.tuxwerk.de:8080
CATEGORIES:WM und Olympia
CREATED;VALUE=DATE-TIME:20200429T182450Z
DESCRIPTION:Mit Prof. Dr. Franz-Josef Brüseke und Dr. Thomas Fatheuer\n\n
 \n\nDienstag\, 5. Juli 2016\, 19.30 Uhr\n\n\n\nVHS im Heinrich-von-Kleist-
 Forum\n\n\n\nPlatz der Deutschen Einheit 1\, Hamm\n\n\n\nDer Eintritt ist 
 frei.
LAST-MODIFIED;VALUE=DATE-TIME:20200429T182450Z
LOCATION:VHS
URL:https://www.kooperation-brasilien.org/de/veranstaltungen/termine/brasi
 lien-in-der-krise-2013-trotz-oder-wegen-olympia
END:VEVENT
BEGIN:VTIMEZONE
TZID:Europe/Berlin
X-LIC-LOCATION:Europe/Berlin
BEGIN:DAYLIGHT
DTSTART;VALUE=DATE-TIME:20160327T030000
TZNAME:CEST
TZOFFSETFROM:+0100
TZOFFSETTO:+0200
END:DAYLIGHT
END:VTIMEZONE
END:VCALENDAR
