BEGIN:VCALENDAR
VERSION:2.0
PRODID:-//Plone.org//NONSGML plone.app.event//EN
X-WR-TIMEZONE:Europe/Berlin
BEGIN:VEVENT
SUMMARY:Brasilien im Fokus – Schlaglichter auf die Auswirkungen der Klim
 akrise und des Rohstoffabbaus auf Menschenrechte und Territorien
DTSTART;TZID=Europe/Berlin;VALUE=DATE-TIME:20240924T180000
DTEND;TZID=Europe/Berlin;VALUE=DATE-TIME:20240924T200000
DTSTAMP;VALUE=DATE-TIME:20260423T062711Z
UID:c08abaf0542046cb8a945652079dbeaf@app-03.tuxwerk.de:8080
CATEGORIES:_feb23,_FEB23
CREATED;VALUE=DATE-TIME:20240909T100615Z
DESCRIPTION:Foco no Brasil – Destaques sobre o impacto da crise climáti
 ca e da extração de recursos nos direitos humanos e nos territórios\n\n
 Evento presencial com tradução simultânea DE-PT e PT-DE. A participaç
 ão é gratuita.\nPräsenz-Veranstaltung mit Simultanübersetzung DE-PT un
 d PT-DE. Die Teilnahme ist kostenlos.
LAST-MODIFIED;VALUE=DATE-TIME:20241008T081149Z
LOCATION:Pão para o Mundo //  Brot für die Welt (Sala // Raum 0.K.01 Ama
 lie Sieveking)\, Caroline-Michaelis-Str.1\, 10115 Berlin
URL:https://www.kooperation-brasilien.org/de/veranstaltungen/termine/brasi
 lien-im-fokus-schlaglichter-auf-die-auswirkungen-der-klimakrise-und-des-ro
 hstoffabbaus-auf-menschenrechte-und-territorien
END:VEVENT
BEGIN:VTIMEZONE
TZID:Europe/Berlin
X-LIC-LOCATION:Europe/Berlin
BEGIN:DAYLIGHT
DTSTART;VALUE=DATE-TIME:20240331T030000
TZNAME:CEST
TZOFFSETFROM:+0100
TZOFFSETTO:+0200
END:DAYLIGHT
END:VTIMEZONE
END:VCALENDAR
