BEGIN:VCALENDAR
VERSION:2.0
PRODID:-//Plone.org//NONSGML plone.app.event//EN
X-WR-TIMEZONE:Europe/Berlin
BEGIN:VEVENT
SUMMARY:Brasilien heute und in Zukunft
DTSTART;TZID=Europe/Berlin;VALUE=DATE-TIME:20150130T110000
DTEND;TZID=Europe/Berlin;VALUE=DATE-TIME:20150130T210000
DTSTAMP;VALUE=DATE-TIME:20260426T041942Z
UID:006cf67d8f395bf861c41eae6a730b7f@app-03.tuxwerk.de:8080
CATEGORIES:Politik und Wirtschaft
CONTACT:Dr. Nina Elsemann\, 030 / 838-53649\, nina.elsemann@fu-berlin.de
CREATED;VALUE=DATE-TIME:20200429T182445Z
DESCRIPTION:Öffentliches Symposium am 30. Januar 2015 am Lateinamerika-In
 stitut der Freien Universität Berlin
LAST-MODIFIED;VALUE=DATE-TIME:20200429T182445Z
LOCATION:Berlin
URL:https://www.kooperation-brasilien.org/de/veranstaltungen/termine/brasi
 lien-heute-und-in-zukunft
END:VEVENT
BEGIN:VTIMEZONE
TZID:Europe/Berlin
X-LIC-LOCATION:Europe/Berlin
BEGIN:STANDARD
DTSTART;VALUE=DATE-TIME:20141026T020000
TZNAME:CET
TZOFFSETFROM:+0200
TZOFFSETTO:+0100
END:STANDARD
END:VTIMEZONE
END:VCALENDAR
