BEGIN:VCALENDAR
VERSION:2.0
PRODID:-//Plone.org//NONSGML plone.app.event//EN
X-WR-TIMEZONE:Europe/Berlin
BEGIN:VEVENT
SUMMARY:Brasilien: Freifahrtschein für das Agrobusiness?
DTSTART;TZID=Europe/Berlin;VALUE=DATE-TIME:20161121T210000
DTEND;TZID=Europe/Berlin;VALUE=DATE-TIME:20161122T000000
DTSTAMP;VALUE=DATE-TIME:20260423T125518Z
UID:272372e93aa90a74f4ed91bb3c46a101@app-03.tuxwerk.de:8080
CREATED;VALUE=DATE-TIME:20200429T182441Z
DESCRIPTION:Interessenkonflikte zwischen Agrarindustrie und kleinbäuerlic
 her Landwirtschaft – die Situation in Brasilien nach dem Regierungswechs
 el -\n\nDiskussionsrunde mit brasilianischen Gästen\n\n
LAST-MODIFIED;VALUE=DATE-TIME:20200429T182441Z
LOCATION:Berlin
URL:https://www.kooperation-brasilien.org/de/veranstaltungen/termine/brasi
 lien-freifahrtschein-fuer-das-agrobusiness
END:VEVENT
BEGIN:VTIMEZONE
TZID:Europe/Berlin
X-LIC-LOCATION:Europe/Berlin
BEGIN:STANDARD
DTSTART;VALUE=DATE-TIME:20161030T020000
TZNAME:CET
TZOFFSETFROM:+0200
TZOFFSETTO:+0100
END:STANDARD
END:VTIMEZONE
END:VCALENDAR
