BEGIN:VCALENDAR
VERSION:2.0
PRODID:-//Plone.org//NONSGML plone.app.event//EN
X-WR-TIMEZONE:Europe/Berlin
BEGIN:VEVENT
SUMMARY:Brasilien - eine Demokratie in der Krise
DTSTART;TZID=Europe/Berlin;VALUE=DATE-TIME:20171205T203000
DTEND;TZID=Europe/Berlin;VALUE=DATE-TIME:20171205T223000
DTSTAMP;VALUE=DATE-TIME:20260421T005747Z
UID:2bc7739982ee8bb734e34d4cb165e9e1@app-03.tuxwerk.de:8080
CREATED;VALUE=DATE-TIME:20200429T182440Z
DESCRIPTION:Der AfA-Kreisverband Böblingen und die Friedrich-Ebert-Stiftu
 ng laden  dazu ein\, im Gespräch mit den beiden Gästen Valter Sanches\, 
 Generalsekretär von IndustriALL\, und Klaus Barthel\, AfA-Bundesvorsitzen
 der\, zu diskutieren.
LAST-MODIFIED;VALUE=DATE-TIME:20200429T182440Z
LOCATION:Sindelfingen
URL:https://www.kooperation-brasilien.org/de/veranstaltungen/termine/brasi
 lien-eine-demokratie-in-der-krise
END:VEVENT
BEGIN:VTIMEZONE
TZID:Europe/Berlin
X-LIC-LOCATION:Europe/Berlin
BEGIN:STANDARD
DTSTART;VALUE=DATE-TIME:20171029T020000
TZNAME:CET
TZOFFSETFROM:+0200
TZOFFSETTO:+0100
END:STANDARD
END:VTIMEZONE
END:VCALENDAR
