BEGIN:VCALENDAR
VERSION:2.0
PRODID:-//Plone.org//NONSGML plone.app.event//EN
X-WR-TIMEZONE:Europe/Berlin
BEGIN:VEVENT
SUMMARY:Brasilien: Die Rückkehr der Generäle
DTSTART;TZID=Europe/Berlin;VALUE=DATE-TIME:20190315T220000
DTEND;TZID=Europe/Berlin;VALUE=DATE-TIME:20190316T030000
DTSTAMP;VALUE=DATE-TIME:20260425T185250Z
UID:c0a51c3ae10cd3b5f3bb6eddab6c350e@app-03.tuxwerk.de:8080
CREATED;VALUE=DATE-TIME:20200429T182438Z
LAST-MODIFIED;VALUE=DATE-TIME:20200429T182438Z
LOCATION:Freiburg
URL:https://www.kooperation-brasilien.org/de/veranstaltungen/termine/brasi
 lien-die-rueckkehr-der-generaele
END:VEVENT
BEGIN:VTIMEZONE
TZID:Europe/Berlin
X-LIC-LOCATION:Europe/Berlin
BEGIN:STANDARD
DTSTART;VALUE=DATE-TIME:20181028T020000
TZNAME:CET
TZOFFSETFROM:+0200
TZOFFSETTO:+0100
END:STANDARD
END:VTIMEZONE
END:VCALENDAR
