BEGIN:VCALENDAR
VERSION:2.0
PRODID:-//Plone.org//NONSGML plone.app.event//EN
X-WR-TIMEZONE:Europe/Berlin
BEGIN:VEVENT
SUMMARY:Brasilien: Der Kampf der indigenen Gemeinschaften für ihr Land un
 d Ihre Rechte
DTSTART;TZID=Europe/Berlin;VALUE=DATE-TIME:20190924T153000
DTEND;TZID=Europe/Berlin;VALUE=DATE-TIME:20190924T173000
DTSTAMP;VALUE=DATE-TIME:20260422T004900Z
UID:5cf7bfe1f4f4e6807f3278cfc06d37b3@app-03.tuxwerk.de:8080
CREATED;VALUE=DATE-TIME:20200429T182436Z
DESCRIPTION:Zu Gast im Future Camp: Alessandra Korap Munduruku (indigene A
 ktivistin und Kämpferin für Frauenrechte in Brasilien) und Marquinho Mot
 a (Projektkoordinator des ostamazonischen NGO-Netzwerks FAOR)
LAST-MODIFIED;VALUE=DATE-TIME:20200429T182436Z
LOCATION:Berlin
URL:https://www.kooperation-brasilien.org/de/veranstaltungen/termine/brasi
 lien-der-kampf-der-indigenen-gemeinschaften-fuer-ihr-land-und-ihre-rechte
END:VEVENT
BEGIN:VTIMEZONE
TZID:Europe/Berlin
X-LIC-LOCATION:Europe/Berlin
BEGIN:DAYLIGHT
DTSTART;VALUE=DATE-TIME:20190331T030000
TZNAME:CEST
TZOFFSETFROM:+0100
TZOFFSETTO:+0200
END:DAYLIGHT
END:VTIMEZONE
END:VCALENDAR
