BEGIN:VCALENDAR
VERSION:2.0
PRODID:-//Plone.org//NONSGML plone.app.event//EN
X-WR-TIMEZONE:Europe/Berlin
BEGIN:VEVENT
SUMMARY:Brasilien - Demokratie in Gefahr?
DTSTART;TZID=Europe/Berlin;VALUE=DATE-TIME:20160607T220000
DTEND;TZID=Europe/Berlin;VALUE=DATE-TIME:20160608T000000
DTSTAMP;VALUE=DATE-TIME:20260422T073435Z
UID:582b2f07503914195af92d23b48a09e2@app-03.tuxwerk.de:8080
CREATED;VALUE=DATE-TIME:20200429T182433Z
DESCRIPTION:Debatte mit: Itamar Silva IBASE – Rio de Janeiro.\n\n\n
LAST-MODIFIED;VALUE=DATE-TIME:20200429T182433Z
LOCATION:Berlin
URL:https://www.kooperation-brasilien.org/de/veranstaltungen/termine/brasi
 lien-demokratie-in-gefahr
END:VEVENT
BEGIN:VTIMEZONE
TZID:Europe/Berlin
X-LIC-LOCATION:Europe/Berlin
BEGIN:DAYLIGHT
DTSTART;VALUE=DATE-TIME:20160327T030000
TZNAME:CEST
TZOFFSETFROM:+0100
TZOFFSETTO:+0200
END:DAYLIGHT
END:VTIMEZONE
END:VCALENDAR
