BEGIN:VCALENDAR
VERSION:2.0
PRODID:-//Plone.org//NONSGML plone.app.event//EN
X-WR-TIMEZONE:Europe/Berlin
BEGIN:VEVENT
SUMMARY:"Brasilien brennt weiter!" Fotografien von Mauricio Maranhão
DTSTART;TZID=Europe/Berlin;VALUE=DATE-TIME:20220905T190000
DTEND;TZID=Europe/Berlin;VALUE=DATE-TIME:20221011T170000
DTSTAMP;VALUE=DATE-TIME:20260421T205907Z
UID:ef38967cdd714590b187b9953dce90e6@app-03.tuxwerk.de:8080
CATEGORIES:Wahlen,Kultur
CREATED;VALUE=DATE-TIME:20220829T142242Z
DESCRIPTION:Fotoausstellung und Begleitveranstaltungen im Haus am Dom\n\n
 Öffnungszeiten\nmo – fr 9:00–17:00 Uhr\nsa/so 11:00 –17:00 Uhr\nbei
  Abendveranstaltungen auch länger\nEintritt frei
LAST-MODIFIED;VALUE=DATE-TIME:20220829T151028Z
LOCATION:HAUS AM DOM Domplatz 3 60311 Frankfurt am Main
URL:https://www.kooperation-brasilien.org/de/veranstaltungen/termine/brasi
 lien-brennt-weiter-fotografien-von-mauricio-maranhao
END:VEVENT
BEGIN:VTIMEZONE
TZID:Europe/Berlin
X-LIC-LOCATION:Europe/Berlin
BEGIN:DAYLIGHT
DTSTART;VALUE=DATE-TIME:20220327T030000
TZNAME:CEST
TZOFFSETFROM:+0100
TZOFFSETTO:+0200
END:DAYLIGHT
END:VTIMEZONE
END:VCALENDAR
