BEGIN:VCALENDAR
VERSION:2.0
PRODID:-//Plone.org//NONSGML plone.app.event//EN
X-WR-TIMEZONE:Europe/Berlin
BEGIN:VEVENT
SUMMARY:Berliner Brasiliendialog #8: Deutschland - Brasilien: Konvergenzen
  und Divergenzen
DTSTART;TZID=Europe/Berlin;VALUE=DATE-TIME:20210209T180000
DTEND;TZID=Europe/Berlin;VALUE=DATE-TIME:20210209T200000
DTSTAMP;VALUE=DATE-TIME:20260423T045528Z
UID:145eec088e0c4e549ebfc4b4e1ee6ada@app-03.tuxwerk.de:8080
CREATED;VALUE=DATE-TIME:20210108T090750Z
DESCRIPTION:aus der Reihe Berliner Brasiliendialog: Brasilien im mulitplen
  Krisenmodus\nEine Kooperation des Maria Sibylla Merian Centre Convivialit
 y-Inequality in Latin America (mecila) mit: Lateinamerika-Institut (LAI) d
 er Freien Universität Berlin (FU Berlin)\, Friedrich-Ebert-Stiftung (FES)
 \, Heinrich-Böll-Stiftung (hbs)\, Rosa-Luxemburg-Stiftung (RLS)\, Forschu
 ngs- und Dokumentationszentrum Chile-Lateinamerika/Brasilien Initiative Be
 rlin (FDCL/BIB)\, katholisches Hilfswerk Misereor (MISEREOR)\, Lateinameri
 ka-Forum (LAF)\, Global South Studies Center (GSSC) der Universität zu K
 öln (UzK).\n\nDie Reihe wird kostenfrei als Zoom-Veranstaltung durchgefü
 hrt. In Zoom: Portugiesisch-Deutsch Simultandolmetschung.
LAST-MODIFIED;VALUE=DATE-TIME:20210108T090933Z
URL:https://www.kooperation-brasilien.org/de/veranstaltungen/termine/berli
 ner-brasiliendialog-8-deutschland-brasilien-konvergenzen-und-divergenzen
END:VEVENT
BEGIN:VTIMEZONE
TZID:Europe/Berlin
X-LIC-LOCATION:Europe/Berlin
BEGIN:STANDARD
DTSTART;VALUE=DATE-TIME:20201025T020000
TZNAME:CET
TZOFFSETFROM:+0200
TZOFFSETTO:+0100
END:STANDARD
END:VTIMEZONE
END:VCALENDAR
