BEGIN:VCALENDAR
VERSION:2.0
PRODID:-//Plone.org//NONSGML plone.app.event//EN
X-WR-TIMEZONE:Europe/Berlin
BEGIN:VEVENT
SUMMARY:Berlin im Klima-Bündnis: Kommunen in Partnerschaft mit den indige
 nen Völkern und für den Schutz der Regenwälder Amazoniens
DTSTART;TZID=Europe/Berlin;VALUE=DATE-TIME:20211029T110000
DTEND;TZID=Europe/Berlin;VALUE=DATE-TIME:20211029T133000
DTSTAMP;VALUE=DATE-TIME:20260420T043112Z
UID:627b4b61c6474c098a08fe1a30b695ac@app-03.tuxwerk.de:8080
CONTACT:https://www.fdcl.org/event/berlin-im-klima-buendnis-kommunen-in-pa
 rtnerschaft-mit-den-indigenen-voelkern-und-fuer-den-schutz-der-regenwaelde
 r-amazoniens/
CREATED;VALUE=DATE-TIME:20211006T083608Z
DESCRIPTION:Fachgespräch mit Vertreter*innen der Berliner Politik\, Verwa
 ltung\, Kommunalpolitiker*innen\, Klima-Bündnis und Berliner Aktivist*inn
 en
LAST-MODIFIED;VALUE=DATE-TIME:20211206T182011Z
URL:https://www.kooperation-brasilien.org/de/veranstaltungen/termine/berli
 n-im-klima-buendnis-kommunen-in-partnerschaft-mit-den-indigenen-voelkern-u
 nd-fuer-den-schutz-der-regenwaelder-amazoniens
END:VEVENT
BEGIN:VTIMEZONE
TZID:Europe/Berlin
X-LIC-LOCATION:Europe/Berlin
BEGIN:DAYLIGHT
DTSTART;VALUE=DATE-TIME:20210328T030000
TZNAME:CEST
TZOFFSETFROM:+0100
TZOFFSETTO:+0200
END:DAYLIGHT
END:VTIMEZONE
END:VCALENDAR
