BEGIN:VCALENDAR
VERSION:2.0
PRODID:-//Plone.org//NONSGML plone.app.event//EN
X-WR-TIMEZONE:Europe/Berlin
BEGIN:VEVENT
SUMMARY:Berlin apóia a Greve Geral
DTSTART;TZID=Europe/Berlin;VALUE=DATE-TIME:20170428T210000
DTEND;TZID=Europe/Berlin;VALUE=DATE-TIME:20170429T020000
DTSTAMP;VALUE=DATE-TIME:20260421T072047Z
UID:70c51885bedf06504bdbd7d685e25332@app-03.tuxwerk.de:8080
CREATED;VALUE=DATE-TIME:20200429T182411Z
DESCRIPTION:Demo zur Solidarität mit dem Generalstreik am selben Tag in B
 rasilien\,\n
LAST-MODIFIED;VALUE=DATE-TIME:20200429T182411Z
LOCATION:Berlin
URL:https://www.kooperation-brasilien.org/de/veranstaltungen/termine/berli
 n-apoia-a-greve-geral
END:VEVENT
BEGIN:VTIMEZONE
TZID:Europe/Berlin
X-LIC-LOCATION:Europe/Berlin
BEGIN:DAYLIGHT
DTSTART;VALUE=DATE-TIME:20170326T030000
TZNAME:CEST
TZOFFSETFROM:+0100
TZOFFSETTO:+0200
END:DAYLIGHT
END:VTIMEZONE
END:VCALENDAR
