BEGIN:VCALENDAR
VERSION:2.0
PRODID:-//Plone.org//NONSGML plone.app.event//EN
X-WR-TIMEZONE:Europe/Berlin
BEGIN:VEVENT
SUMMARY:Bericht über die POEMA-Reise Ende 2014
DTSTART;TZID=Europe/Berlin;VALUE=DATE-TIME:20150319T213000
DTEND;TZID=Europe/Berlin;VALUE=DATE-TIME:20150320T010000
DTSTAMP;VALUE=DATE-TIME:20260421T204509Z
UID:98b269fe07cc3bcf1cd5ad6e5b11d6f2@app-03.tuxwerk.de:8080
CATEGORIES:Amazonien,Traditionelle Völker und Gemeinschaften,Belo Monte,L
 andkonflikte und Umwelt
CONTACT:Gerd Rathgeb\, gerd.rathgeb@t-online.de
CREATED;VALUE=DATE-TIME:20200429T182409Z
DESCRIPTION:POEMA nimmt euch mit in die verschiedenen Regionen\, die sie a
 uf ihrer Reise im November / Dezember 2014 besucht haben.
LAST-MODIFIED;VALUE=DATE-TIME:20200429T182409Z
LOCATION:Welthaus\, Stuttgart
URL:https://www.kooperation-brasilien.org/de/veranstaltungen/termine/beric
 ht-ueber-die-poema-reise-ende-2014
END:VEVENT
BEGIN:VTIMEZONE
TZID:Europe/Berlin
X-LIC-LOCATION:Europe/Berlin
BEGIN:STANDARD
DTSTART;VALUE=DATE-TIME:20141026T020000
TZNAME:CET
TZOFFSETFROM:+0200
TZOFFSETTO:+0100
END:STANDARD
END:VTIMEZONE
END:VCALENDAR
