BEGIN:VCALENDAR
VERSION:2.0
PRODID:-//Plone.org//NONSGML plone.app.event//EN
X-WR-TIMEZONE:Europe/Berlin
BEGIN:VEVENT
SUMMARY:Benefizkonzert für FiBra
DTSTART;TZID=Europe/Berlin;VALUE=DATE-TIME:20151025T200000
DTEND;TZID=Europe/Berlin;VALUE=DATE-TIME:20151026T014500
DTSTAMP;VALUE=DATE-TIME:20260422T134010Z
UID:2ef8393f8364a54e50ad06788ca8b526@app-03.tuxwerk.de:8080
CATEGORIES:Landkonflikte und Umwelt
CREATED;VALUE=DATE-TIME:20200429T182408Z
DESCRIPTION:Brasilien Benefizveranstaltung & Konzert vom FIBRA e.V. | Sonn
 tag\, 25.10.2015 18:30 Uhr\n\nFORRO DE KA
LAST-MODIFIED;VALUE=DATE-TIME:20200429T182408Z
LOCATION:Karlsruhe
URL:https://www.kooperation-brasilien.org/de/veranstaltungen/termine/benef
 izkonzert-fuer-fibra
END:VEVENT
BEGIN:VTIMEZONE
TZID:Europe/Berlin
X-LIC-LOCATION:Europe/Berlin
BEGIN:STANDARD
DTSTART;VALUE=DATE-TIME:20151025T020000
TZNAME:CET
TZOFFSETFROM:+0200
TZOFFSETTO:+0100
END:STANDARD
END:VTIMEZONE
END:VCALENDAR
