BEGIN:VCALENDAR
VERSION:2.0
PRODID:-//Plone.org//NONSGML plone.app.event//EN
X-WR-TIMEZONE:Europe/Berlin
BEGIN:VEVENT
SUMMARY:Begegnungsabend Jugendtanzgruppe "Saber Viver"
DTSTART;TZID=Europe/Berlin;VALUE=DATE-TIME:20161024T000000
DTEND;TZID=Europe/Berlin;VALUE=DATE-TIME:20161024T013000
DTSTAMP;VALUE=DATE-TIME:20260420T023725Z
UID:a0b21ce58d5d5fc7fa150f11262f706e@app-03.tuxwerk.de:8080
CONTACT:info@suedwind-freiburg.de
CREATED;VALUE=DATE-TIME:20200429T182406Z
DESCRIPTION:Begegnungsabend und Projektinfo mit der Tanzgruppe “Saber Vi
 ver“ aus Recife\, Brasilien bei Südwind in Freiburg
LAST-MODIFIED;VALUE=DATE-TIME:20200429T182406Z
LOCATION:Freiburg
URL:https://www.kooperation-brasilien.org/de/veranstaltungen/termine/begeg
 nungsabend-jugendtanzgruppe-saber-viver
END:VEVENT
BEGIN:VTIMEZONE
TZID:Europe/Berlin
X-LIC-LOCATION:Europe/Berlin
BEGIN:DAYLIGHT
DTSTART;VALUE=DATE-TIME:20160327T030000
TZNAME:CEST
TZOFFSETFROM:+0100
TZOFFSETTO:+0200
END:DAYLIGHT
END:VTIMEZONE
END:VCALENDAR
