BEGIN:VCALENDAR
VERSION:2.0
PRODID:-//Plone.org//NONSGML plone.app.event//EN
X-WR-TIMEZONE:Europe/Berlin
BEGIN:VEVENT
SUMMARY:Ausstellung "Favela-Fotografen aus Rio"
DTSTART;TZID=Europe/Berlin;VALUE=DATE-TIME:20160728T040000
DTEND;TZID=Europe/Berlin;VALUE=DATE-TIME:20160826T040000
DTSTAMP;VALUE=DATE-TIME:20260419T173225Z
UID:34a23143f41c08a7f65fa1e5f6f8744c@app-03.tuxwerk.de:8080
CREATED;VALUE=DATE-TIME:20200429T182403Z
DESCRIPTION:Fotografie-Ausstellung in der Auslandsgesellschaft Dortmund mi
 t Fotografien von Teilnehmern des Foto Clubes  Alemão aus dem Complexo do
  Alemão in Rio de Janeiro.
LAST-MODIFIED;VALUE=DATE-TIME:20200429T182403Z
LOCATION:Dortmund
URL:https://www.kooperation-brasilien.org/de/veranstaltungen/termine/ausst
 ellung-favela-fotografen-aus-rio
END:VEVENT
BEGIN:VTIMEZONE
TZID:Europe/Berlin
X-LIC-LOCATION:Europe/Berlin
BEGIN:DAYLIGHT
DTSTART;VALUE=DATE-TIME:20160327T030000
TZNAME:CEST
TZOFFSETFROM:+0100
TZOFFSETTO:+0200
END:DAYLIGHT
END:VTIMEZONE
END:VCALENDAR
