BEGIN:VCALENDAR
VERSION:2.0
PRODID:-//Plone.org//NONSGML plone.app.event//EN
X-WR-TIMEZONE:Europe/Berlin
BEGIN:VEVENT
SUMMARY:Aufstehen gegen den Völkermord an Brasiliens Indigenen
DTSTART;TZID=Europe/Berlin;VALUE=DATE-TIME:20170511T230000
DTEND;TZID=Europe/Berlin;VALUE=DATE-TIME:20170512T003000
DTSTAMP;VALUE=DATE-TIME:20260422T100658Z
UID:31f3dd6ac4d39fb81d4d776b04bd785f@app-03.tuxwerk.de:8080
CREATED;VALUE=DATE-TIME:20200429T182357Z
DESCRIPTION:Vortrag von Cacique Ládio Verón\, Guarani-Kaiowá\, Mato Gro
 sso do Sul\, Brasilien. Musikalische Begleitung: Vital Soares. Sprache: Po
 rtugiesisch (mit Übersetzung ins Deutsche).
LAST-MODIFIED;VALUE=DATE-TIME:20200429T182358Z
LOCATION:Zürich
URL:https://www.kooperation-brasilien.org/de/veranstaltungen/termine/aufst
 ehen-gegen-den-voelkermord-an-brasiliens-indigenen
END:VEVENT
BEGIN:VTIMEZONE
TZID:Europe/Berlin
X-LIC-LOCATION:Europe/Berlin
BEGIN:DAYLIGHT
DTSTART;VALUE=DATE-TIME:20170326T030000
TZNAME:CEST
TZOFFSETFROM:+0100
TZOFFSETTO:+0200
END:DAYLIGHT
END:VTIMEZONE
END:VCALENDAR
