BEGIN:VCALENDAR
VERSION:2.0
PRODID:-//Plone.org//NONSGML plone.app.event//EN
X-WR-TIMEZONE:Europe/Berlin
BEGIN:VEVENT
SUMMARY:Alternative Lebenskonzepte indigener Gemeinden und lokale Strategi
 en gegen Großbauprojekte
DTSTART;TZID=Europe/Berlin;VALUE=DATE-TIME:20180227T210000
DTEND;TZID=Europe/Berlin;VALUE=DATE-TIME:20180227T230000
DTSTAMP;VALUE=DATE-TIME:20260426T025422Z
UID:101250d1e148de49a0ef4e3b7d3f631d@app-03.tuxwerk.de:8080
CONTACT:Sara Schmitt Pacífico\, s.schmittpacifico@klimabuendnis.org
CREATED;VALUE=DATE-TIME:20200429T182344Z
DESCRIPTION:Kurzfilme:\n\nDas Lebenskanu\, Dokumentarfilm\, Eriberto Guali
 nga\, Sarayaku\, 2017\, 30 min (Spanisch mit UT Deutsch)\;\n\nCount Down a
 m Xingu V\, Dokumentarfilm\, Martin Keßler\, 2016\, 25 min\n\n\n\nAnschli
 eßende Diskussion mit Martin Keßler (Regisseur) und Silke Lunnebach (Kli
 ma-Bündnis).\n\n
LAST-MODIFIED;VALUE=DATE-TIME:20200429T182344Z
LOCATION:Frankfurt a.M.
URL:https://www.kooperation-brasilien.org/de/veranstaltungen/termine/alter
 native-lebenskonzepte-indigener-gemeinden-und-lokale-strategien-gegen-gros
 sbauprojekte
END:VEVENT
BEGIN:VTIMEZONE
TZID:Europe/Berlin
X-LIC-LOCATION:Europe/Berlin
BEGIN:STANDARD
DTSTART;VALUE=DATE-TIME:20171029T020000
TZNAME:CET
TZOFFSETFROM:+0200
TZOFFSETTO:+0100
END:STANDARD
END:VTIMEZONE
END:VCALENDAR
