BEGIN:VCALENDAR
VERSION:2.0
PRODID:-//Plone.org//NONSGML plone.app.event//EN
X-WR-TIMEZONE:Europe/Berlin
BEGIN:VEVENT
SUMMARY:A dimensão geopolítica do golpe no Brasil e as consequências
DTSTART;TZID=Europe/Berlin;VALUE=DATE-TIME:20171021T230000
DTEND;TZID=Europe/Berlin;VALUE=DATE-TIME:20171022T020000
DTSTAMP;VALUE=DATE-TIME:20260422T025411Z
UID:c5306c3304f89c86907105f228c59c8f@app-03.tuxwerk.de:8080
CREATED;VALUE=DATE-TIME:20200429T182331Z
LAST-MODIFIED;VALUE=DATE-TIME:20200429T182331Z
LOCATION:Frankfurt
URL:https://www.kooperation-brasilien.org/de/veranstaltungen/termine/a-dim
 ensao-geopolitica-do-golpe-no-brasil-e-as-consequencias
END:VEVENT
BEGIN:VTIMEZONE
TZID:Europe/Berlin
X-LIC-LOCATION:Europe/Berlin
BEGIN:DAYLIGHT
DTSTART;VALUE=DATE-TIME:20170326T030000
TZNAME:CEST
TZOFFSETFROM:+0100
TZOFFSETTO:+0200
END:DAYLIGHT
END:VTIMEZONE
END:VCALENDAR
