BEGIN:VCALENDAR
VERSION:2.0
PRODID:-//Plone.org//NONSGML plone.app.event//EN
X-WR-TIMEZONE:Europe/Berlin
BEGIN:VEVENT
SUMMARY:94 Tage Regierung Jair Messias Bolsonaro & Co. Eine erste Bilanz
DTSTART;TZID=Europe/Berlin;VALUE=DATE-TIME:20190404T230000
DTEND;TZID=Europe/Berlin;VALUE=DATE-TIME:20190405T010000
DTSTAMP;VALUE=DATE-TIME:20260423T182859Z
UID:373e0ca294ab8178c19209ae321ea012@app-03.tuxwerk.de:8080
CREATED;VALUE=DATE-TIME:20200429T182239Z
LAST-MODIFIED;VALUE=DATE-TIME:20200429T182239Z
LOCATION:Hamburg
URL:https://www.kooperation-brasilien.org/de/veranstaltungen/termine/94-ta
 ge-regierung-jair-messias-bolsonaro-co.-eine-erste-bilanz
END:VEVENT
BEGIN:VTIMEZONE
TZID:Europe/Berlin
X-LIC-LOCATION:Europe/Berlin
BEGIN:DAYLIGHT
DTSTART;VALUE=DATE-TIME:20190331T030000
TZNAME:CEST
TZOFFSETFROM:+0100
TZOFFSETTO:+0200
END:DAYLIGHT
END:VTIMEZONE
END:VCALENDAR
