BEGIN:VCALENDAR
VERSION:2.0
PRODID:-//Plone.org//NONSGML plone.app.event//EN
X-WR-TIMEZONE:Europe/Berlin
BEGIN:VEVENT
SUMMARY:40 Jahre Solidaritätsarbeit mit Brasilien (Vortrag)
DTSTART;TZID=Europe/Berlin;VALUE=DATE-TIME:20210719T193000
DTSTAMP;VALUE=DATE-TIME:20260425T190041Z
UID:7770ea79069e47ffa8ef46aa4e0174c4@app-03.tuxwerk.de:8080
CONTACT:https://vhs-freiburg.de/index.php?id=317&Fsize=2&contrast=244&kath
 aupt=11&knr=211102415&blkeep=1&isstatic=1&month=4&year=2021&kfs_veranartid
 s=-1
CREATED;VALUE=DATE-TIME:20210628T081109Z
DESCRIPTION:Seit über 40 Jahren dauert das ehrenamtliche Engagement der B
 rasilieninitiative Freiburg e.V bereits an\, die Informationsarbeit in Deu
 tschland anbietet\, konkrete Projektunterstützung in Brasilien bereitstel
 lt und das Magazin BrasilienNachrichten herausgibt.
LAST-MODIFIED;VALUE=DATE-TIME:20210628T082309Z
LOCATION:Theatersaal der Volkshochschule Freiburg
URL:https://www.kooperation-brasilien.org/de/veranstaltungen/termine/40-ja
 hre-solidaritaetsarbeit-mit-brasilien-vortrag
END:VEVENT
BEGIN:VTIMEZONE
TZID:Europe/Berlin
X-LIC-LOCATION:Europe/Berlin
BEGIN:DAYLIGHT
DTSTART;VALUE=DATE-TIME:20210328T030000
TZNAME:CEST
TZOFFSETFROM:+0100
TZOFFSETTO:+0200
END:DAYLIGHT
END:VTIMEZONE
END:VCALENDAR
