BEGIN:VCALENDAR
VERSION:2.0
PRODID:-//Plone.org//NONSGML plone.app.event//EN
X-WR-TIMEZONE:Europe/Berlin
BEGIN:VEVENT
SUMMARY:31. Jahrestagung der Lateinamerikaforschung Austria
DTSTART;TZID=Europe/Berlin;VALUE=DATE-TIME:20150619T180000
DTEND;TZID=Europe/Berlin;VALUE=DATE-TIME:20150621T160000
DTSTAMP;VALUE=DATE-TIME:20260422T113204Z
UID:ff432b8af7b4c0b7bfcd11aebdb5854f@app-03.tuxwerk.de:8080
CREATED;VALUE=DATE-TIME:20200429T182235Z
DESCRIPTION:Wir laden alle Interessierten ein\, bis zum 31. März 2015 Vor
 schläge für Vorträge im Rahmen der ausgewählten Arbeitskreise (AK) anz
 umelden!
LAST-MODIFIED;VALUE=DATE-TIME:20200429T182235Z
LOCATION:Strobl am Wolfgangsee
URL:https://www.kooperation-brasilien.org/de/veranstaltungen/termine/31.-j
 ahrestagung-der-lateinamerikaforschung-austria
END:VEVENT
BEGIN:VTIMEZONE
TZID:Europe/Berlin
X-LIC-LOCATION:Europe/Berlin
BEGIN:DAYLIGHT
DTSTART;VALUE=DATE-TIME:20150329T030000
TZNAME:CEST
TZOFFSETFROM:+0100
TZOFFSETTO:+0200
END:DAYLIGHT
END:VTIMEZONE
END:VCALENDAR
