BEGIN:VCALENDAR
VERSION:2.0
PRODID:-//Plone.org//NONSGML plone.app.event//EN
X-WR-TIMEZONE:Europe/Berlin
BEGIN:VEVENT
SUMMARY:„Volle Tanks – leere Teller“
DTSTART;TZID=Europe/Berlin;VALUE=DATE-TIME:20170828T210000
DTEND;TZID=Europe/Berlin;VALUE=DATE-TIME:20170828T230000
DTSTAMP;VALUE=DATE-TIME:20260420T123351Z
UID:066195718d2e604ab277a6efeaaf39df@app-03.tuxwerk.de:8080
CREATED;VALUE=DATE-TIME:20200429T182231Z
DESCRIPTION:Podiumsdiskussion mit Kandidat*innen für den Deutschen Bundes
 tag über eine zukunftsfähige Biomassepolitik
LAST-MODIFIED;VALUE=DATE-TIME:20200429T182232Z
LOCATION:Freiburg
URL:https://www.kooperation-brasilien.org/de/veranstaltungen/termine/201ev
 olle-tanks-2013-leere-teller201c
END:VEVENT
BEGIN:VTIMEZONE
TZID:Europe/Berlin
X-LIC-LOCATION:Europe/Berlin
BEGIN:DAYLIGHT
DTSTART;VALUE=DATE-TIME:20170326T030000
TZNAME:CEST
TZOFFSETFROM:+0100
TZOFFSETTO:+0200
END:DAYLIGHT
END:VTIMEZONE
END:VCALENDAR
